BEGIN:VCALENDAR
VERSION:2.0
PRODID:-//Social Symphony of Kansas City - ECPv6.15.20//NONSGML v1.0//EN
CALSCALE:GREGORIAN
METHOD:PUBLISH
X-ORIGINAL-URL:https://socialsymphonykc.org
X-WR-CALDESC:Events for Social Symphony of Kansas City
REFRESH-INTERVAL;VALUE=DURATION:PT1H
X-Robots-Tag:noindex
X-PUBLISHED-TTL:PT1H
BEGIN:VTIMEZONE
TZID:America/Chicago
BEGIN:DAYLIGHT
TZOFFSETFROM:-0600
TZOFFSETTO:-0500
TZNAME:CDT
DTSTART:20200308T080000
END:DAYLIGHT
BEGIN:STANDARD
TZOFFSETFROM:-0500
TZOFFSETTO:-0600
TZNAME:CST
DTSTART:20201101T070000
END:STANDARD
BEGIN:DAYLIGHT
TZOFFSETFROM:-0600
TZOFFSETTO:-0500
TZNAME:CDT
DTSTART:20210314T080000
END:DAYLIGHT
BEGIN:STANDARD
TZOFFSETFROM:-0500
TZOFFSETTO:-0600
TZNAME:CST
DTSTART:20211107T070000
END:STANDARD
BEGIN:DAYLIGHT
TZOFFSETFROM:-0600
TZOFFSETTO:-0500
TZNAME:CDT
DTSTART:20220313T080000
END:DAYLIGHT
BEGIN:STANDARD
TZOFFSETFROM:-0500
TZOFFSETTO:-0600
TZNAME:CST
DTSTART:20221106T070000
END:STANDARD
END:VTIMEZONE
BEGIN:VEVENT
DTSTART;TZID=America/Chicago:20211212T163000
DTEND;TZID=America/Chicago:20211212T173000
DTSTAMP:20260422T082050
CREATED:20211113T180937Z
LAST-MODIFIED:20241113T181247Z
UID:1386-1639326600-1639330200@socialsymphonykc.org
SUMMARY:"Christmas at the Movies"
DESCRIPTION:Join your favorite Drunk Orchestra for our winter concert: Christmas at the Movies!\n\nThe Social Symphony of Kansas City will perform familiar holiday classics as well as tunes from popular films.\n\nAll ages welcome!
URL:https://socialsymphonykc.org/event/christmas-at-the-movies/
LOCATION:Rochester Brewing & Roasting Co.\, 2129 Washington Street\, Kansas City\, MO\, 64108\, United States
ATTACH;FMTTYPE=image/png:https://socialsymphonykc.org/wp-content/uploads/2024/11/sskc-gig-poster-2021-christmas-at-the-movies-FB-event-copy.png
END:VEVENT
END:VCALENDAR