BEGIN:VCALENDAR
VERSION:2.0
PRODID:-//Social Symphony of Kansas City - ECPv6.15.20//NONSGML v1.0//EN
CALSCALE:GREGORIAN
METHOD:PUBLISH
X-WR-CALNAME:Social Symphony of Kansas City
X-ORIGINAL-URL:https://socialsymphonykc.org
X-WR-CALDESC:Events for Social Symphony of Kansas City
REFRESH-INTERVAL;VALUE=DURATION:PT1H
X-Robots-Tag:noindex
X-PUBLISHED-TTL:PT1H
BEGIN:VTIMEZONE
TZID:America/Chicago
BEGIN:DAYLIGHT
TZOFFSETFROM:-0600
TZOFFSETTO:-0500
TZNAME:CDT
DTSTART:20180311T080000
END:DAYLIGHT
BEGIN:STANDARD
TZOFFSETFROM:-0500
TZOFFSETTO:-0600
TZNAME:CST
DTSTART:20181104T070000
END:STANDARD
BEGIN:DAYLIGHT
TZOFFSETFROM:-0600
TZOFFSETTO:-0500
TZNAME:CDT
DTSTART:20190310T080000
END:DAYLIGHT
BEGIN:STANDARD
TZOFFSETFROM:-0500
TZOFFSETTO:-0600
TZNAME:CST
DTSTART:20191103T070000
END:STANDARD
BEGIN:DAYLIGHT
TZOFFSETFROM:-0600
TZOFFSETTO:-0500
TZNAME:CDT
DTSTART:20200308T080000
END:DAYLIGHT
BEGIN:STANDARD
TZOFFSETFROM:-0500
TZOFFSETTO:-0600
TZNAME:CST
DTSTART:20201101T070000
END:STANDARD
END:VTIMEZONE
BEGIN:VEVENT
DTSTART;TZID=America/Chicago:20191208T131500
DTEND;TZID=America/Chicago:20191208T140000
DTSTAMP:20260425T112839
CREATED:20191113T181402Z
LAST-MODIFIED:20241113T182115Z
UID:1390-1575810900-1575813600@socialsymphonykc.org
SUMMARY:Boulevard Brewing's 4th Annual Holiday Bizarre
DESCRIPTION:It’s time for our Fourth Annual Holiday Bizarre!\n\nJoin us for a Sunday of holiday merriment on December 8th! We’ll have some of our favorite local shop vendors selling their wares for your gifting needs. The festive fun will also include contests in our Rec Deck & Beer Hall\, Sunday Bingo\, holiday movies\, arts & crafts\, live music\, food specials and more!\n\nSchedule of EventsHoliday Bizarre Shopping – 10am – 5pmFamily Friendly Beer Hall Bingo – 11am – 1pmSocial Symphony Beer Hall performance – 1:15 – 2pmDJ Jabberock spinning holiday vinyl – 2pm – 5pmOur Smokestack Room will feature a DIY Holiday card station\, Holiday coloring sheet station and we’ll be showing holiday movies all day long!\n\nWe’re honored to have Rose Brooks Center as our charitable partner this year. We’ll be hosting a gift drive benefiting Rose Brooks Center all day on December 8th. Guests can bring in new\, unwrapped gifts that will be given directly to the families receiving Rose Brooks Center services – helping them create a special holiday season\, with a bright\, safe future. We will also be collecting tips + donations and donating a portion of draft beer sales from the day.
URL:https://socialsymphonykc.org/event/boulevard-brewings-4th-annual-holiday-bizarre/
LOCATION:Boulevard Tours & Rec Center\, 2534 Madison Avenue\, Kansas City\, MO\, 64108\, United States
CATEGORIES:Concert
ATTACH;FMTTYPE=image/jpeg:https://socialsymphonykc.org/wp-content/uploads/2024/11/2019-blvd-holiday-bizarre.jpg
END:VEVENT
END:VCALENDAR