BEGIN:VCALENDAR
VERSION:2.0
PRODID:-//Social Symphony of Kansas City - ECPv6.15.20//NONSGML v1.0//EN
CALSCALE:GREGORIAN
METHOD:PUBLISH
X-ORIGINAL-URL:https://socialsymphonykc.org
X-WR-CALDESC:Events for Social Symphony of Kansas City
REFRESH-INTERVAL;VALUE=DURATION:PT1H
X-Robots-Tag:noindex
X-PUBLISHED-TTL:PT1H
BEGIN:VTIMEZONE
TZID:America/Chicago
BEGIN:DAYLIGHT
TZOFFSETFROM:-0600
TZOFFSETTO:-0500
TZNAME:CDT
DTSTART:20210314T080000
END:DAYLIGHT
BEGIN:STANDARD
TZOFFSETFROM:-0500
TZOFFSETTO:-0600
TZNAME:CST
DTSTART:20211107T070000
END:STANDARD
BEGIN:DAYLIGHT
TZOFFSETFROM:-0600
TZOFFSETTO:-0500
TZNAME:CDT
DTSTART:20220313T080000
END:DAYLIGHT
BEGIN:STANDARD
TZOFFSETFROM:-0500
TZOFFSETTO:-0600
TZNAME:CST
DTSTART:20221106T070000
END:STANDARD
BEGIN:DAYLIGHT
TZOFFSETFROM:-0600
TZOFFSETTO:-0500
TZNAME:CDT
DTSTART:20230312T080000
END:DAYLIGHT
BEGIN:STANDARD
TZOFFSETFROM:-0500
TZOFFSETTO:-0600
TZNAME:CST
DTSTART:20231105T070000
END:STANDARD
END:VTIMEZONE
BEGIN:VEVENT
DTSTART;TZID=America/Chicago:20221211T160000
DTEND;TZID=America/Chicago:20221211T180000
DTSTAMP:20260421T142147
CREATED:20221113T180141Z
LAST-MODIFIED:20241113T180451Z
UID:1377-1670774400-1670781600@socialsymphonykc.org
SUMMARY:Christmas Concert
DESCRIPTION:Join your favorite Drunk Orchestra for a Christmas concert! Free admission and all ages welcome!
URL:https://socialsymphonykc.org/event/christmas-concert/
LOCATION:Masonic Lodge\, 903 Harrison Street\, Kansas City\, MO\, 64106\, United States
CATEGORIES:Concert
ATTACH;FMTTYPE=image/png:https://socialsymphonykc.org/wp-content/uploads/2024/11/SSKC-holidays-2022-FB-event-v7.png
END:VEVENT
END:VCALENDAR